BEGIN:VCALENDAR
VERSION:2.0
PRODID:-//Hi Delta - ECPv6.15.20//NONSGML v1.0//EN
CALSCALE:GREGORIAN
METHOD:PUBLISH
X-WR-CALNAME:Hi Delta
X-ORIGINAL-URL:https://hidelta.nl
X-WR-CALDESC:Evenementen voor Hi Delta
REFRESH-INTERVAL;VALUE=DURATION:PT1H
X-Robots-Tag:noindex
X-PUBLISHED-TTL:PT1H
BEGIN:VTIMEZONE
TZID:Europe/Amsterdam
BEGIN:DAYLIGHT
TZOFFSETFROM:+0100
TZOFFSETTO:+0200
TZNAME:CEST
DTSTART:20220327T010000
END:DAYLIGHT
BEGIN:STANDARD
TZOFFSETFROM:+0200
TZOFFSETTO:+0100
TZNAME:CET
DTSTART:20221030T010000
END:STANDARD
BEGIN:DAYLIGHT
TZOFFSETFROM:+0100
TZOFFSETTO:+0200
TZNAME:CEST
DTSTART:20230326T010000
END:DAYLIGHT
BEGIN:STANDARD
TZOFFSETFROM:+0200
TZOFFSETTO:+0100
TZNAME:CET
DTSTART:20231029T010000
END:STANDARD
BEGIN:DAYLIGHT
TZOFFSETFROM:+0100
TZOFFSETTO:+0200
TZNAME:CEST
DTSTART:20240331T010000
END:DAYLIGHT
BEGIN:STANDARD
TZOFFSETFROM:+0200
TZOFFSETTO:+0100
TZNAME:CET
DTSTART:20241027T010000
END:STANDARD
END:VTIMEZONE
BEGIN:VEVENT
DTSTART;TZID=Europe/Amsterdam:20230216T120000
DTEND;TZID=Europe/Amsterdam:20230216T123000
DTSTAMP:20260421T105420
CREATED:20230105T144650Z
LAST-MODIFIED:20230105T144955Z
UID:18233-1676548800-1676550600@hidelta.nl
SUMMARY:Hi Partnerchat
DESCRIPTION:Op 16 februari 2023 om 12:00-12:30 uur organiseren we weer een Hi Partnerchat. Doelstelling van deze Hi Partnerchats is om elkaar als Hi Delta-partners op een laagdrempelige manier te leren kennen\, vanuit verschillende sectoren. Dit is een korte maandelijkse bijeenkomst die online plaatsvindt\, rond lunchtijd of aan het einde van de dag.
URL:https://hidelta.nl/event/hi-partnerchat-16-februari-2023/
CATEGORIES:Hi Partnerchat
ATTACH;FMTTYPE=image/png:https://hidelta.nl/wp-content/uploads/2023/01/HI-Partner-Chat-16-02-1.png
END:VEVENT
END:VCALENDAR