BEGIN:VCALENDAR
VERSION:2.0
PRODID:-//Hi Delta - ECPv6.15.20//NONSGML v1.0//EN
CALSCALE:GREGORIAN
METHOD:PUBLISH
X-WR-CALNAME:Hi Delta
X-ORIGINAL-URL:https://hidelta.nl
X-WR-CALDESC:Evenementen voor Hi Delta
REFRESH-INTERVAL;VALUE=DURATION:PT1H
X-Robots-Tag:noindex
X-PUBLISHED-TTL:PT1H
BEGIN:VTIMEZONE
TZID:Europe/Amsterdam
BEGIN:DAYLIGHT
TZOFFSETFROM:+0100
TZOFFSETTO:+0200
TZNAME:CEST
DTSTART:20220327T010000
END:DAYLIGHT
BEGIN:STANDARD
TZOFFSETFROM:+0200
TZOFFSETTO:+0100
TZNAME:CET
DTSTART:20221030T010000
END:STANDARD
BEGIN:DAYLIGHT
TZOFFSETFROM:+0100
TZOFFSETTO:+0200
TZNAME:CEST
DTSTART:20230326T010000
END:DAYLIGHT
BEGIN:STANDARD
TZOFFSETFROM:+0200
TZOFFSETTO:+0100
TZNAME:CET
DTSTART:20231029T010000
END:STANDARD
BEGIN:DAYLIGHT
TZOFFSETFROM:+0100
TZOFFSETTO:+0200
TZNAME:CEST
DTSTART:20240331T010000
END:DAYLIGHT
BEGIN:STANDARD
TZOFFSETFROM:+0200
TZOFFSETTO:+0100
TZNAME:CET
DTSTART:20241027T010000
END:STANDARD
END:VTIMEZONE
BEGIN:VEVENT
DTSTART;TZID=Europe/Amsterdam:20230321T153000
DTEND;TZID=Europe/Amsterdam:20230321T163000
DTSTAMP:20260426T062507
CREATED:20230308T131051Z
LAST-MODIFIED:20230308T132933Z
UID:18692-1679412600-1679416200@hidelta.nl
SUMMARY:Space meets High Tech – Young Professional Networking Event @ZIE2023
DESCRIPTION:Always wondered how space technology can tackle challenges on Earth and offer high tech solutions for amongst others power generation\, the health industry and agriculture? How for example satellites\, it’s technology and the data they offer\, benefit our society? We do! \n\n\n\nWe want to bring together Young Professionals from industries that benefit each other and offer you opportunities for growth and networking. That is why we’ll meet up with our Young Professional peers from the Space industry and ask them over drinks. Come join us and meet up with Young Professionals from NL Space Campus and SpaceNed!  \n\n\n\nNo better location to organize this meetup than at the Space Pavilion at ZIE 2023. ZIE is the annual exhibition and networking event for the High Tech industry in Zuid-Holland\, taking place on the 21st of March at the Van Nelle Fabriek in Rotterdam (The Space Pavilion is hosted by Airbus\, TNO\, WestEnd\, the ESA Technology Broker NL and 5 startups from ESA BIC). \n\n\n\nThis is a fantastic opportunity to connect with Young Professionals from different companies\, start-ups and institutes in the Space and High Tech industry with diverse backgrounds and expertise.  \n\n\n\nJoin us and be surprised how much the Space and High Tech industry actually have in common. We are convinced that there is an uncharted space for stronger collaboration between our sectors.  \n\n\n\nLet’s explore! Drinks are on us.  \n\n\n\nWhen?                 \n\n\n\n15:30 – 16:30\, March 21st  \n\n\n\n(we advise you to come earlier to explore the exhibition and expand your network) \n\n\n\nWhere?               \n\n\n\nSpace Pavilion\, ZIE 2023\, Van Nelle Fabriek\, Rotterdam \n\n\n\nHow?                   \n\n\n\nBy registering here. But don’t take too long\, there is space for only 75 YP’s and full is full. You will be automatically registered for the event which is free of charge. \n\n\n\nSee you in Rotterdam!
URL:https://hidelta.nl/event/space-meets-high-tech-young-professional-networking-event-zie2023/
CATEGORIES:Hi Event,Young Hi Delta
ATTACH;FMTTYPE=image/png:https://hidelta.nl/wp-content/uploads/2023/03/Space-meets-High-Tech-–-Young-Professional-Networking-Event_banner-def.png
END:VEVENT
END:VCALENDAR